BEGIN:VCALENDAR
VERSION:2.0
PRODID:-//Kingdom Life Entrepreneurs - ECPv6.15.20//NONSGML v1.0//EN
CALSCALE:GREGORIAN
METHOD:PUBLISH
X-WR-CALNAME:Kingdom Life Entrepreneurs
X-ORIGINAL-URL:https://kingdomlifeentrepreneurs.com
X-WR-CALDESC:Events for Kingdom Life Entrepreneurs
REFRESH-INTERVAL;VALUE=DURATION:PT1H
X-Robots-Tag:noindex
X-PUBLISHED-TTL:PT1H
BEGIN:VTIMEZONE
TZID:UTC
BEGIN:STANDARD
TZOFFSETFROM:+0000
TZOFFSETTO:+0000
TZNAME:UTC
DTSTART:20240101T000000
END:STANDARD
END:VTIMEZONE
BEGIN:VEVENT
DTSTART;TZID=UTC:20251122T130000
DTEND;TZID=UTC:20251122T154300
DTSTAMP:20260423T102035
CREATED:20260304T154321Z
LAST-MODIFIED:20260306T142129Z
UID:2873-1763816400-1763826180@kingdomlifeentrepreneurs.com
SUMMARY:Enterprenuership Master Class with Michael A. DADA. In partnership with the Kingdom Life Enterprenuers\, Bible Believers Forumn(BBF) and Doyenify.
DESCRIPTION:Theme:Leveraging Technology for Leapfrog Innovation \nDate & Time:📅 Sunday November 22nd\, 2025🕙 1:00 P.M Noon CET \nHost:🎙️ Michael A. Dada \nFacilitator:🗣️ BOLU \nVenue:📍 Go Hotel Shnellis\, Toompuiestee 37/1\, 10149\, Tallinn Estonia \nRegistration & Inquiries:📲 Contact: +372 5670 4920\, +372 5624 6877
URL:https://kingdomlifeentrepreneurs.com/event/enterprenuership-master-class-with-michael-a-dada-in-partnership-with-the-kingdom-life-enterprenuers-bible-believers-forumnbbf-and-doyenify/
ATTACH;FMTTYPE=image/png:https://kingdomlifeentrepreneurs.com/wp-content/uploads/2026/03/The-Kingdom-Life-Entrepreneurs_20260302_121649_0000.png
ORGANIZER;CN="Kingdom Life Entrepreneurs":MAILTO:admin@kingdomlifeentrepreneurs.com
END:VEVENT
BEGIN:VEVENT
DTSTART;TZID=UTC:20250727T130000
DTEND;TZID=UTC:20250727T152300
DTSTAMP:20260423T102035
CREATED:20260304T152345Z
LAST-MODIFIED:20260306T142544Z
UID:2865-1753621200-1753629780@kingdomlifeentrepreneurs.com
SUMMARY:Entrepreneurship Masterclass
DESCRIPTION:Theme:Raising Kingdom Enterprenuers for Kingdom Purposes. \nDate & Time:📅 Saturday 27th\, July\, 2025🕙 1:00 P.M Noon CET \nHost:🎙️ Michael A. Dada \nFacilitator:🗣️ BOLU \nVenue:📍 A&Ohostels wien Hauptbahnhof8 \nRegistration & Inquiries:📲 Contact Daniel: +436767103574
URL:https://kingdomlifeentrepreneurs.com/event/entrepreneurship-masterclass/
ATTACH;FMTTYPE=image/png:https://kingdomlifeentrepreneurs.com/wp-content/uploads/2026/03/The-Kingdom-Life-Entrepreneurs_20260302_122712_0000.png
ORGANIZER;CN="Kingdom Life Entrepreneurs":MAILTO:admin@kingdomlifeentrepreneurs.com
END:VEVENT
BEGIN:VEVENT
DTSTART;TZID=UTC:20250727T130000
DTEND;TZID=UTC:20250727T141200
DTSTAMP:20260423T102035
CREATED:20260304T153030Z
LAST-MODIFIED:20260306T141923Z
UID:2869-1753621200-1753625520@kingdomlifeentrepreneurs.com
SUMMARY:Entrepreneurship Master Class Series 2.0 Vienna
DESCRIPTION:Theme:Raising Kingdom Enterprenuers for Kingdom Purposes. \nDate & Time:📅 Saturday 27th\, July\, 2025🕙 1:00 P.M Noon CET \nHost:🎙️ Michael A. Dada \nFacilitator:🗣️ BOLU \nVenue:📍 A&Ohostels wien Hauptbahnhof8 \nRegistration & Inquiries:📲 Contact Daniel: +436767103574
URL:https://kingdomlifeentrepreneurs.com/event/entrepreneurship-master-class-series-2-0-vienna/
ATTACH;FMTTYPE=image/png:https://kingdomlifeentrepreneurs.com/wp-content/uploads/2026/03/The-Kingdom-Life-Entrepreneurs_20260302_122220_0000.png
ORGANIZER;CN="Kingdom Life Entrepreneurs":MAILTO:admin@kingdomlifeentrepreneurs.com
END:VEVENT
BEGIN:VEVENT
DTSTART;TZID=UTC:20250705T080000
DTEND;TZID=UTC:20250705T100000
DTSTAMP:20260423T102035
CREATED:20250622T171545Z
LAST-MODIFIED:20250622T171545Z
UID:2836-1751702400-1751709600@kingdomlifeentrepreneurs.com
SUMMARY:Bible and Business Forum – Budapest 2025
DESCRIPTION:Theme:Rich Towards GodA powerful conversation at the intersection of biblical stewardship and practical investment wisdom. \nDate & Time:📅 5th July 2025🕙 10:00 A.M – 12:00 Noon CET \nFocus Topic:💼 Investment Focus: Introduction to Real Estate in Hungary \nSpecial Guest:👤 Gabor GRETSCEO\, Active Invest Real Estate Agency Ltd\, Hungary \nHost:🎙️ Michael A. Dada \nFacilitator:🗣️ Damiete JACK \nVenue:📍 Online via Zoom🔗 Join Zoom Meeting \nOrganized by: \n\n\nThe Kingdom-Life Entrepreneurs \n\n\nRCCG Hungary Mission \n\n\nBible & Business Forum (BBF) \n\n\nRegistration & Inquiries:📲 Contact Damiete: +36202479735
URL:https://kingdomlifeentrepreneurs.com/event/bible-and-business-forum-budapest-2025/
CATEGORIES:Bible Study
ATTACH;FMTTYPE=image/jpeg:https://kingdomlifeentrepreneurs.com/wp-content/uploads/2025/06/WhatsApp-Image-2025-06-21-at-14.29.21_f8f077dc.jpg
ORGANIZER;CN="Kingdom Life Entrepreneurs":MAILTO:admin@kingdomlifeentrepreneurs.com
END:VEVENT
BEGIN:VEVENT
DTSTART;TZID=UTC:20250510T103000
DTEND;TZID=UTC:20250510T140000
DTSTAMP:20260423T102035
CREATED:20250412T162643Z
LAST-MODIFIED:20250423T110048Z
UID:2206-1746873000-1746885600@kingdomlifeentrepreneurs.com
SUMMARY:Entrepreneurship Masterclass 2.0 – Scaling Operations
DESCRIPTION:Entrepreneurship Masterclass 2.0 with Michael A. Dada \nTheme:Scaling OperationsStrategies for scaling a startup from inception to a larger enterprise\, including systems and processes. \nFacilitator:🎤 Rita Akulep – Facilitator👤 Michael A. Dada – President \nDate:📅 Saturday\, 10th May 2025 \nTime:⏰ 10:30 A.M. CET \nVenue:📍 Üllői út 102\, 1089\, Building 4\, Budapest \nOrganizers: \n\n\nThe Kingdom-Life Entrepreneurs \n\n\nBible & Business Forum (BBF) \n\n\nRCCG Jesus House Budapest \n\n\nRegistration & Inquiries:📲 Contact Rita on WhatsApp: +36203525172
URL:https://kingdomlifeentrepreneurs.com/event/entrepreneurship-masterclass-2-0-scaling-operations/
LOCATION:KLE\, Üllői út 102\, 1089\, Building 4\, Budapest\, Budapest\, Budapest\, 1089\, Hungary
CATEGORIES:Business
ATTACH;FMTTYPE=image/jpeg:https://kingdomlifeentrepreneurs.com/wp-content/uploads/2025/04/1743497920156.jpeg
ORGANIZER;CN="Kingdom Life Entrepreneurs":MAILTO:admin@kingdomlifeentrepreneurs.com
END:VEVENT
BEGIN:VEVENT
DTSTART;TZID=UTC:20250116T190000
DTEND;TZID=UTC:20250116T203000
DTSTAMP:20260423T102035
CREATED:20250412T162354Z
LAST-MODIFIED:20250412T162354Z
UID:2204-1737054000-1737059400@kingdomlifeentrepreneurs.com
SUMMARY:Entrepreneurship Masterclass – Branding & Marketing in the Digital Age
DESCRIPTION:Branding & Marketing in the Digital Age“Effective branding and marketing strategies using social media\, influencer partnerships\, and content marketing.” \nDate:📅 Thursday\, 16th January 2025 \nTime:🕖 7:00 P.M. CET \nVenue:📍 Népszínház u. 36\, Budapest\, 1081 \nKey Features:✅ Business Mentorship✅ Business Monitoring✅ Business Plans✅ Business Networking \nBooks in Focus:📘 The Personal MBA by Josh Kaufman📗 Tribe of Millionaires by David Osborn & others \nOrganizers: \n\n\nThe Kingdom-Life Entrepreneurs \n\n\nIn partnership with RCCG Jesus House Budapest \n\n\nBible & Business Forum (BBF) \n\n\nRegistration Required:🔗 Scan QR code on flyer or📲 Contact Bobby: +36202479735📲 Contact Rita: +36203525172📧 Email: email@michaeladadas.com
URL:https://kingdomlifeentrepreneurs.com/event/entrepreneurship-masterclass-branding-marketing-in-the-digital-age/
LOCATION:Kingdom Life Entrepreneurs\, Népszínház utca 36\, 1081\, Budapest\, Budapest\, 1081\, Hungary
CATEGORIES:Business
ATTACH;FMTTYPE=image/jpeg:https://kingdomlifeentrepreneurs.com/wp-content/uploads/2025/04/WhatsApp-Image-2025-03-04-at-15.43.36_543694a4.jpg
ORGANIZER;CN="Kingdom Life Entrepreneurs":MAILTO:admin@kingdomlifeentrepreneurs.com
END:VEVENT
END:VCALENDAR