BEGIN:VCALENDAR
VERSION:2.0
PRODID:-//Kingdom Life Entrepreneurs - ECPv6.15.20//NONSGML v1.0//EN
CALSCALE:GREGORIAN
METHOD:PUBLISH
X-WR-CALNAME:Kingdom Life Entrepreneurs
X-ORIGINAL-URL:https://kingdomlifeentrepreneurs.com
X-WR-CALDESC:Events for Kingdom Life Entrepreneurs
REFRESH-INTERVAL;VALUE=DURATION:PT1H
X-Robots-Tag:noindex
X-PUBLISHED-TTL:PT1H
BEGIN:VTIMEZONE
TZID:UTC
BEGIN:STANDARD
TZOFFSETFROM:+0000
TZOFFSETTO:+0000
TZNAME:UTC
DTSTART:20240101T000000
END:STANDARD
END:VTIMEZONE
BEGIN:VEVENT
DTSTART;TZID=UTC:20250705T080000
DTEND;TZID=UTC:20250705T100000
DTSTAMP:20260423T102156
CREATED:20250622T171545Z
LAST-MODIFIED:20250622T171545Z
UID:2836-1751702400-1751709600@kingdomlifeentrepreneurs.com
SUMMARY:Bible and Business Forum – Budapest 2025
DESCRIPTION:Theme:Rich Towards GodA powerful conversation at the intersection of biblical stewardship and practical investment wisdom. \nDate & Time:📅 5th July 2025🕙 10:00 A.M – 12:00 Noon CET \nFocus Topic:💼 Investment Focus: Introduction to Real Estate in Hungary \nSpecial Guest:👤 Gabor GRETSCEO\, Active Invest Real Estate Agency Ltd\, Hungary \nHost:🎙️ Michael A. Dada \nFacilitator:🗣️ Damiete JACK \nVenue:📍 Online via Zoom🔗 Join Zoom Meeting \nOrganized by: \n\n\nThe Kingdom-Life Entrepreneurs \n\n\nRCCG Hungary Mission \n\n\nBible & Business Forum (BBF) \n\n\nRegistration & Inquiries:📲 Contact Damiete: +36202479735
URL:https://kingdomlifeentrepreneurs.com/event/bible-and-business-forum-budapest-2025/
CATEGORIES:Bible Study
ATTACH;FMTTYPE=image/jpeg:https://kingdomlifeentrepreneurs.com/wp-content/uploads/2025/06/WhatsApp-Image-2025-06-21-at-14.29.21_f8f077dc.jpg
ORGANIZER;CN="Kingdom Life Entrepreneurs":MAILTO:admin@kingdomlifeentrepreneurs.com
END:VEVENT
END:VCALENDAR